BEGIN:VCALENDAR
VERSION:2.0
PRODID:-//wp-events-plugin.com//7.2.3.1//EN
BEGIN:VEVENT
UID:23@rotaryclubofayr.org
DTSTART:20240924T094500Z
DTEND:20240924T140000Z
DTSTAMP:20240920T200142Z
URL:https://rotaryclubofayr.org/events/visit-to-upm-paper-mill/
SUMMARY:Visit to UPM Paper Mill
DESCRIPTION:A tour of the factory\, followed by lunch at The Canny Crow\, D
 undonald Links Golf Club
LOCATION:Savoy Park Hotel\, 16 Racecourse Road\, Ayr\, South Ayrshire\, KA7
  2UT\, Scotland
X-APPLE-STRUCTURED-LOCATION;VALUE=URI;X-ADDRESS=16 Racecourse Road\, Ayr\, 
 South Ayrshire\, KA7 2UT\, Scotland;X-APPLE-RADIUS=100;X-TITLE=Savoy Park 
 Hotel:geo:0,0
END:VEVENT
END:VCALENDAR