BEGIN:VCALENDAR
VERSION:2.0
PRODID:-//wp-events-plugin.com//7.2.3.1//EN
BEGIN:VEVENT
UID:15@rotaryclubofayr.org
DTSTART:20230131T180000Z
DTEND:20230131T193000Z
DTSTAMP:20230112T114114Z
URL:https://rotaryclubofayr.org/events/reular-weekly-meeting-31-jan-2023/
SUMMARY:Regular Weekly Meeting 31 Jan 2023
DESCRIPTION:Youth Speak Debaters' Dry Runs\n\nKyle Academy and Wellington S
 chool
LOCATION:Horizon Hotel\, Esplanade\, Ayr\, South Ayrshire\, KA7 1DT\, Scotl
 and
X-APPLE-STRUCTURED-LOCATION;VALUE=URI;X-ADDRESS=Esplanade\, Ayr\, South Ayr
 shire\, KA7 1DT\, Scotland;X-APPLE-RADIUS=100;X-TITLE=Horizon Hotel:geo:0,
 0
END:VEVENT
END:VCALENDAR