BEGIN:VCALENDAR
VERSION:2.0
PRODID:-//wp-events-plugin.com//7.2.3.1//EN
BEGIN:VEVENT
UID:16@rotaryclubofayr.org
DTSTART:20230207T180000Z
DTEND:20230207T193000Z
DTSTAMP:20230110T115808Z
URL:https://rotaryclubofayr.org/events/regular-weekly-meeting-7-feb-2023/
SUMMARY:Regular Weekly Meeting 7 Feb 2023
DESCRIPTION:Kaleigh Hamilton et al - The Challenges of Young Carers in Ayr
LOCATION:Savoy Park Hotel\, 16 Racecourse Road\, Ayr\, South Ayrshire\, KA7
  2UT\, Scotland
X-APPLE-STRUCTURED-LOCATION;VALUE=URI;X-ADDRESS=16 Racecourse Road\, Ayr\, 
 South Ayrshire\, KA7 2UT\, Scotland;X-APPLE-RADIUS=100;X-TITLE=Savoy Park 
 Hotel:geo:0,0
END:VEVENT
END:VCALENDAR