BEGIN:VCALENDAR
VERSION:2.0
PRODID:-//wp-events-plugin.com//7.2.3.1//EN
BEGIN:VEVENT
UID:14@rotaryclubofayr.org
DTSTART:20230124T180000Z
DTEND:20230124T210000Z
DTSTAMP:20230110T114349Z
URL:https://rotaryclubofayr.org/events/burns-supper-24-jan-2023/
SUMMARY:Burns Supper 24 Jan 2023
DESCRIPTION:A fun night inspired by Rabbie Burns with Wellington School fid
 dlers and a real piper!
LOCATION:Savoy Park Hotel\, 16 Racecourse Road\, Ayr\, South Ayrshire\, KA7
  2UT\, Scotland
X-APPLE-STRUCTURED-LOCATION;VALUE=URI;X-ADDRESS=16 Racecourse Road\, Ayr\, 
 South Ayrshire\, KA7 2UT\, Scotland;X-APPLE-RADIUS=100;X-TITLE=Savoy Park 
 Hotel:geo:0,0
END:VEVENT
END:VCALENDAR