BEGIN:VCALENDAR
VERSION:2.0
PRODID:-//wp-events-plugin.com//7.2.3.1//EN
BEGIN:VEVENT
UID:20@rotaryclubofayr.org
DTSTART:20230216T080000Z
DTEND:20230216T090000Z
DTSTAMP:20230110T120726Z
URL:https://rotaryclubofayr.org/events/breakfast-meeting-16-feb-2023/
SUMMARY:Breakfast Meeting 16 Feb 2023
DESCRIPTION:An informat chat with breakfast of your choice
LOCATION:Cafe 51\, 45-51 Beresford Terrace\, Ayr\, South Ayrshire\, KA7 2HD
 \, Scotland
X-APPLE-STRUCTURED-LOCATION;VALUE=URI;X-ADDRESS=45-51 Beresford Terrace\, A
 yr\, South Ayrshire\, KA7 2HD\, Scotland;X-APPLE-RADIUS=100;X-TITLE=Cafe 5
 1:geo:0,0
END:VEVENT
END:VCALENDAR