BEGIN:VCALENDAR
VERSION:2.0
PRODID:-//wp-events-plugin.com//7.2.3.1//EN
BEGIN:VEVENT
UID:33@rotaryclubofayr.org
DTSTART:20241105T180000Z
DTEND:20241105T193000Z
DTSTAMP:20241101T133330Z
URL:https://rotaryclubofayr.org/events/5-nov-2024-heather-malloch/
SUMMARY:5 Nov 2024 - Heather Malloch
DESCRIPTION:The Mission Aviation Fellowship
LOCATION:Savoy Park Hotel\, 16 Racecourse Road\, Ayr\, South Ayrshire\, KA7
  2UT\, Scotland
X-APPLE-STRUCTURED-LOCATION;VALUE=URI;X-ADDRESS=16 Racecourse Road\, Ayr\, 
 South Ayrshire\, KA7 2UT\, Scotland;X-APPLE-RADIUS=100;X-TITLE=Savoy Park 
 Hotel:geo:0,0
END:VEVENT
END:VCALENDAR