BEGIN:VCALENDAR
VERSION:2.0
PRODID:-//wp-events-plugin.com//7.2.3.1//EN
BEGIN:VEVENT
UID:42@rotaryclubofayr.org
DTSTART:20241203T180000Z
DTEND:20241203T193000Z
DTSTAMP:20241202T004148Z
URL:https://rotaryclubofayr.org/events/3rd-dec-special-and-club-business-m
 eetings/
SUMMARY:3rd Dec. - Joint Special and Club Business Meeting
DESCRIPTION:
LOCATION:Savoy Park Hotel\, 16 Racecourse Road\, Ayr\, South Ayrshire\, KA7
  2UT\, Scotland
X-APPLE-STRUCTURED-LOCATION;VALUE=URI;X-ADDRESS=16 Racecourse Road\, Ayr\, 
 South Ayrshire\, KA7 2UT\, Scotland;X-APPLE-RADIUS=100;X-TITLE=Savoy Park 
 Hotel:geo:0,0
END:VEVENT
END:VCALENDAR