BEGIN:VCALENDAR
VERSION:2.0
PRODID:-//wp-events-plugin.com//7.2.3.1//EN
BEGIN:VEVENT
UID:89@rotaryclubofayr.org
DTSTART:20250930T180000Z
DTEND:20250930T193000Z
DTSTAMP:20250914T133330Z
URL:https://rotaryclubofayr.org/events/30-september-simon-glendenning-wome
 n-of-ayrshire-should-never-be-forgotten/
SUMMARY:30 September 2025 - Simon Glendenning - The Women of Ayrshire who s
 hould never be forgotten.
DESCRIPTION:
LOCATION:Westerly Restaurant\, Ayr College\, Content Ave\,\, Ayr\, KA8 0ET\
 , Scotland
X-APPLE-STRUCTURED-LOCATION;VALUE=URI;X-ADDRESS=Content Ave\,\, Ayr\, KA8 0
 ET\, Scotland;X-APPLE-RADIUS=100;X-TITLE=Westerly Restaurant\, Ayr College
 :geo:0,0
END:VEVENT
END:VCALENDAR