BEGIN:VCALENDAR
VERSION:2.0
PRODID:-//wp-events-plugin.com//7.2.3.1//EN
BEGIN:VEVENT
UID:65@rotaryclubofayr.org
DTSTART:20250429T180000Z
DTEND:20250429T193000Z
DTSTAMP:20250428T175402Z
URL:https://rotaryclubofayr.org/events/29-april-2025-don-panama-el-salvado
 r/
SUMMARY:29 April 2025 - Calum McPhail- Prestwick Aerospace
DESCRIPTION:1 - Please note that Fraser Maitland is unable to attend this e
 vening due to health issues\, and that Calum McPhail of Prestwick Aerospac
 e\, has kindly agreed to attend in his place for supper and provide a brie
 f talk on the present and future aspirations of Prestwick Aerospace.\n\n2 
 - Please note also\, the menu choice as follows:\n\n 	Starter:\n 	\n\n 	Bu
 tternut squash Tartlet\n 	Prawn Cocktail (may be dairy free if required) 
 – see options\n\n\n\n\n 	Main:\n\n 	Steak and Sausage Pie served with ro
 ast potatoes and seasonal vegetables)\n 	Sweet Potato and chick pea curry 
 with pilaff rice and poppadum (dairy free).\n\n\n
LOCATION:Westerly Restaurant\, Ayr College\, Content Ave\,\, Ayr\, KA8 0ET\
 , Scotland
X-APPLE-STRUCTURED-LOCATION;VALUE=URI;X-ADDRESS=Content Ave\,\, Ayr\, KA8 0
 ET\, Scotland;X-APPLE-RADIUS=100;X-TITLE=Westerly Restaurant\, Ayr College
 :geo:0,0
END:VEVENT
END:VCALENDAR