BEGIN:VCALENDAR
VERSION:2.0
PRODID:-//wp-events-plugin.com//7.2.3.1//EN
BEGIN:VEVENT
UID:39@rotaryclubofayr.org
DTSTART:20241126T180000Z
DTEND:20241126T193000Z
DTSTAMP:20241123T194916Z
URL:https://rotaryclubofayr.org/events/26-november-2024-bruce-keith-scotla
 nd-beneath-the-surface/
SUMMARY:26 Nov. 2024 - Bruce Keith - Scotland beneath the Surface
DESCRIPTION:Note there is no menu choice. A Christmas menu will be seved.
LOCATION:Westerly Restaurant\, Ayr College\, Content Ave\,\, Ayr\, KA8 0ET\
 , Scotland
X-APPLE-STRUCTURED-LOCATION;VALUE=URI;X-ADDRESS=Content Ave\,\, Ayr\, KA8 0
 ET\, Scotland;X-APPLE-RADIUS=100;X-TITLE=Westerly Restaurant\, Ayr College
 :geo:0,0
END:VEVENT
END:VCALENDAR