BEGIN:VCALENDAR
VERSION:2.0
PRODID:-//wp-events-plugin.com//7.2.3.1//EN
BEGIN:VEVENT
UID:84@rotaryclubofayr.org
DTSTART:20250826T180000Z
DTEND:20250826T193000Z
DTSTAMP:20250826T005016Z
URL:https://rotaryclubofayr.org/events/26-august-2025-social-informal-meet
 ing-tbc/
SUMMARY:26 August 2025 - Social/Informal Evening - A Quiz Night
DESCRIPTION:
LOCATION:Savoy Park Hotel\, 16 Racecourse Road\, Ayr\, South Ayrshire\, KA7
  2UT\, Scotland
X-APPLE-STRUCTURED-LOCATION;VALUE=URI;X-ADDRESS=16 Racecourse Road\, Ayr\, 
 South Ayrshire\, KA7 2UT\, Scotland;X-APPLE-RADIUS=100;X-TITLE=Savoy Park 
 Hotel:geo:0,0
END:VEVENT
END:VCALENDAR