BEGIN:VCALENDAR
VERSION:2.0
PRODID:-//wp-events-plugin.com//7.2.3.1//EN
BEGIN:VEVENT
UID:60@rotaryclubofayr.org
DTSTART:20250325T180000Z
DTEND:20250325T193000Z
DTSTAMP:20250318T160731Z
URL:https://rotaryclubofayr.org/events/25-march-2025-frank-murray-the-hist
 ory-of-ici-ardeer/
SUMMARY:25 March 2025 - Martin Cheyne - The History of ICI Ardeer
DESCRIPTION:With a ‘blast from the past’\, our guest speaker Martin Che
 yne shall be reflecting upon ICI’s development and production of explosi
 ves over the years at Ardeer\, and the ‘Scottish Connection’ with Alfr
 ed Nobel.  \n\n&nbsp\;
LOCATION:Westerly Restaurant\, Ayr College\, Content Ave\,\, Ayr\, KA8 0ET\
 , Scotland
X-APPLE-STRUCTURED-LOCATION;VALUE=URI;X-ADDRESS=Content Ave\,\, Ayr\, KA8 0
 ET\, Scotland;X-APPLE-RADIUS=100;X-TITLE=Westerly Restaurant\, Ayr College
 :geo:0,0
END:VEVENT
END:VCALENDAR