BEGIN:VCALENDAR
VERSION:2.0
PRODID:-//wp-events-plugin.com//7.2.3.1//EN
BEGIN:VEVENT
UID:56@rotaryclubofayr.org
DTSTART:20250225T180000Z
DTEND:20250225T193000Z
DTSTAMP:20250213T005940Z
URL:https://rotaryclubofayr.org/events/25-feb-2025-denis-rattenbury-greece
 -before-greece/
SUMMARY:25  Feb 2025 - Denis Rattenbury - Greece before Greece
DESCRIPTION:\n 	\n\n 	Denis Rattenbury’s presentation on ‘Greece before
  Greece’\, reflects his research of historical facts relating to objects
  at the Burrell Collection\, surrounding ancient Greece to present time.\n
  	\n 	Please register attendance including partners/guests\, via the new b
 ooking-in system\, by mid-day on Friday 21st February at the latest.\n 	\n
 \n\n 	There are choices for a 2-course meal + coffee/tea\, for the fixed p
 rice of £15pp\, which should be paid for by card or cash on arrival.\n 	\
 n 	You will note from the menu attached to the email circulated on 12th Fe
 b. that vegan options are included for both the main and dessert courses. 
 Your choice of meal should be confirmed whilst registering your attendance
  with any partners /guests\, via the booking-in system by mid-day on Frida
 y 21st at the latest.\n 	\n\n\n 	Please arrive from 5.30 pm to ensure that
  all arrangements are in place for a prompt start at 6pm.\n\n \n\n \n
LOCATION:Westerly Restaurant\, Ayr College\, Content Ave\,\, Ayr\, KA8 0ET\
 , Scotland
X-APPLE-STRUCTURED-LOCATION;VALUE=URI;X-ADDRESS=Content Ave\,\, Ayr\, KA8 0
 ET\, Scotland;X-APPLE-RADIUS=100;X-TITLE=Westerly Restaurant\, Ayr College
 :geo:0,0
END:VEVENT
END:VCALENDAR