BEGIN:VCALENDAR
VERSION:2.0
PRODID:-//wp-events-plugin.com//7.2.3.1//EN
BEGIN:VEVENT
UID:47@rotaryclubofayr.org
DTSTART;VALUE=DATE:20241224
DTEND;VALUE=DATE:20241225
DTSTAMP:20241113T192644Z
URL:https://rotaryclubofayr.org/events/24th-dec-no-meeting-2/
SUMMARY:24th Dec. - No Meeting
DESCRIPTION:
END:VEVENT
END:VCALENDAR