BEGIN:VCALENDAR
VERSION:2.0
PRODID:-//wp-events-plugin.com//7.2.3.1//EN
BEGIN:VEVENT
UID:73@rotaryclubofayr.org
DTSTART:20250624T181500Z
DTEND:20250624T203000Z
DTSTAMP:20250604T191616Z
URL:https://rotaryclubofayr.org/events/24-june-presidential-handover-follo
 wed-by-ken-irelands-job-talk/
SUMMARY:24 June 2025 - No meeting at the Savoy Park Hotel. (See note below)
DESCRIPTION:Please note that there shall be no meeting at the Savoy Park Ho
 tel this evening..\n\nInstead\, our members are invited to attend Cumnock 
 Rotary Club's 'disbandment/final dinner' at Cumnock's Dumfries Arms Hotel 
 on Tuesday 24 June\, to arrive by 6.15 for 6.30pm. Cost is £15 per head.\
 n\nFor those wishing to attend\, please contact Secretary Bob or President
  Colin\, as there will be car sharing arrangements available.\n\n&nbsp\;
LOCATION:Dumfries Arms Hotel\, 54 Glaisnock Street   \, Cumnock\, Ayrshire 
 \, KA18 1BY\, Scotland
X-APPLE-STRUCTURED-LOCATION;VALUE=URI;X-ADDRESS=54 Glaisnock Street   \, Cu
 mnock\, Ayrshire \, KA18 1BY\, Scotland;X-APPLE-RADIUS=100;X-TITLE=Dumfrie
 s Arms Hotel:geo:0,0
END:VEVENT
END:VCALENDAR