BEGIN:VCALENDAR
VERSION:2.0
PRODID:-//wp-events-plugin.com//7.2.3.1//EN
BEGIN:VEVENT
UID:79@rotaryclubofayr.org
DTSTART:20250722T180000Z
DTEND:20250722T193000Z
DTSTAMP:20250709T223106Z
URL:https://rotaryclubofayr.org/events/22-july-2025-the-dream-is-much-bett
 er-than-the-memory/
SUMMARY:22 July 2025 - Watt Nicoll - The Dream is much better than the Memo
 ry
DESCRIPTION:
LOCATION:Savoy Park Hotel\, 16 Racecourse Road\, Ayr\, South Ayrshire\, KA7
  2UT\, Scotland
X-APPLE-STRUCTURED-LOCATION;VALUE=URI;X-ADDRESS=16 Racecourse Road\, Ayr\, 
 South Ayrshire\, KA7 2UT\, Scotland;X-APPLE-RADIUS=100;X-TITLE=Savoy Park 
 Hotel:geo:0,0
END:VEVENT
END:VCALENDAR