BEGIN:VCALENDAR
VERSION:2.0
PRODID:-//wp-events-plugin.com//7.2.3.1//EN
BEGIN:VEVENT
UID:51@rotaryclubofayr.org
DTSTART:20250121T180000Z
DTEND:20250121T193000Z
DTSTAMP:20250119T161930Z
URL:https://rotaryclubofayr.org/events/21-jan-2025-youth-speaks-debate-dry
 -run/
SUMMARY:21 Jan 2025 - Terry Wright and Helen Slane - 80th VE Day Anniversar
 y Arrangements
DESCRIPTION:Please note that the 'Youth Speaks Debate Dry Run' is cancelled
  due to extenuating circumstances.
LOCATION:Savoy Park Hotel\, 16 Racecourse Road\, Ayr\, South Ayrshire\, KA7
  2UT\, Scotland
X-APPLE-STRUCTURED-LOCATION;VALUE=URI;X-ADDRESS=16 Racecourse Road\, Ayr\, 
 South Ayrshire\, KA7 2UT\, Scotland;X-APPLE-RADIUS=100;X-TITLE=Savoy Park 
 Hotel:geo:0,0
END:VEVENT
END:VCALENDAR