BEGIN:VCALENDAR
VERSION:2.0
PRODID:-//wp-events-plugin.com//7.2.3.1//EN
BEGIN:VEVENT
UID:74@rotaryclubofayr.org
DTSTART:20250520T180000Z
DTEND:20250520T193000Z
DTSTAMP:20250511T175836Z
URL:https://rotaryclubofayr.org/events/20-may-2025-william-stafford-duties
 -of-the-lord-lieutenant/
SUMMARY:20 May 2025 - William Stafford - Duties of the Lord-Lieutenant
DESCRIPTION:Our originally scheduled guest speaker\, Lord-Lieutenant Iona M
 cDonald\, is unable to attend\, but her deputy William Stafford\, has kind
 ly agreed to attend in her place.
LOCATION:Westerly Restaurant\, Ayr College\, Content Ave\,\, Ayr\, KA8 0ET\
 , Scotland
X-APPLE-STRUCTURED-LOCATION;VALUE=URI;X-ADDRESS=Content Ave\,\, Ayr\, KA8 0
 ET\, Scotland;X-APPLE-RADIUS=100;X-TITLE=Westerly Restaurant\, Ayr College
 :geo:0,0
END:VEVENT
END:VCALENDAR