BEGIN:VCALENDAR
VERSION:2.0
PRODID:-//wp-events-plugin.com//7.2.3.1//EN
BEGIN:VEVENT
UID:61@rotaryclubofayr.org
DTSTART:20250401T180000Z
DTEND:20250401T193000Z
DTSTAMP:20250108T151921Z
URL:https://rotaryclubofayr.org/events/1st-april-2025-frank-whitecross-can
 ine-human-bond/
SUMMARY:01 April 2025 - Frank Whitecross - The Canine-Human Bond
DESCRIPTION:Frank Whitecross's talk shall refer to his experience as former
  Chief Instructor for Police Dog Handling and Training in Scotland.
LOCATION:Savoy Park Hotel\, 16 Racecourse Road\, Ayr\, South Ayrshire\, KA7
  2UT\, Scotland
X-APPLE-STRUCTURED-LOCATION;VALUE=URI;X-ADDRESS=16 Racecourse Road\, Ayr\, 
 South Ayrshire\, KA7 2UT\, Scotland;X-APPLE-RADIUS=100;X-TITLE=Savoy Park 
 Hotel:geo:0,0
END:VEVENT
END:VCALENDAR