BEGIN:VCALENDAR
VERSION:2.0
PRODID:-//wp-events-plugin.com//7.2.3.1//EN
BEGIN:VEVENT
UID:34@rotaryclubofayr.org
DTSTART:20241119T110000Z
DTEND:20241119T120000Z
DTSTAMP:20241018T152128Z
URL:https://rotaryclubofayr.org/events/19-nov-2024-whiteleys-open-day/
SUMMARY:19 Nov 2024 - Whiteleys Open Day
DESCRIPTION:A drop-in Open Day for supporters\, to learn more about how Whi
 teleys looks after children\, young people and their families with cancer 
 and other life altering illnesses.
LOCATION:Whiteleys Retreat\, Alloway\, Ayr\, KA7 4EG\, Scotland
X-APPLE-STRUCTURED-LOCATION;VALUE=URI;X-ADDRESS=Alloway\, Ayr\, KA7 4EG\, S
 cotland;X-APPLE-RADIUS=100;X-TITLE=Whiteleys Retreat:geo:0,0
END:VEVENT
END:VCALENDAR