BEGIN:VCALENDAR
VERSION:2.0
PRODID:-//wp-events-plugin.com//7.2.3.1//EN
BEGIN:VEVENT
UID:36@rotaryclubofayr.org
DTSTART:20241119T180000Z
DTEND:20241119T210000Z
DTSTAMP:20241113T170815Z
URL:https://rotaryclubofayr.org/events/19-nov-2024-murder-at-the-manor/
SUMMARY:19 Nov 2024 - Murder at the Manor
DESCRIPTION:An informal meeting. More details to follow
LOCATION:Savoy Park Hotel\, 16 Racecourse Road\, Ayr\, South Ayrshire\, KA7
  2UT\, Scotland
X-APPLE-STRUCTURED-LOCATION;VALUE=URI;X-ADDRESS=16 Racecourse Road\, Ayr\, 
 South Ayrshire\, KA7 2UT\, Scotland;X-APPLE-RADIUS=100;X-TITLE=Savoy Park 
 Hotel:geo:0,0
END:VEVENT
END:VCALENDAR