BEGIN:VCALENDAR
VERSION:2.0
PRODID:-//wp-events-plugin.com//7.2.3.1//EN
BEGIN:VEVENT
UID:82@rotaryclubofayr.org
DTSTART:20250819T180000Z
DTEND:20250819T193000Z
DTSTAMP:20250709T223619Z
URL:https://rotaryclubofayr.org/events/19-august-2025-andrew-hogarth-the-h
 istory-and-future-of-the-whisky-industry/
SUMMARY:19 August 2025 - Andrew Hogarth - The History and Future of the Whi
 sky Industry
DESCRIPTION:
LOCATION:Savoy Park Hotel\, 16 Racecourse Road\, Ayr\, South Ayrshire\, KA7
  2UT\, Scotland
X-APPLE-STRUCTURED-LOCATION;VALUE=URI;X-ADDRESS=16 Racecourse Road\, Ayr\, 
 South Ayrshire\, KA7 2UT\, Scotland;X-APPLE-RADIUS=100;X-TITLE=Savoy Park 
 Hotel:geo:0,0
END:VEVENT
END:VCALENDAR