BEGIN:VCALENDAR
VERSION:2.0
PRODID:-//wp-events-plugin.com//7.2.3.1//EN
BEGIN:VEVENT
UID:59@rotaryclubofayr.org
DTSTART:20250318T180000Z
DTEND:20250318T193000Z
DTSTAMP:20250205T012825Z
URL:https://rotaryclubofayr.org/events/18-march-2025-social-informal-meeti
 ng/
SUMMARY:18 March 2025 - Kevin Simpson - An Update on Malawi Fruits
DESCRIPTION:
LOCATION:Savoy Park Hotel\, 16 Racecourse Road\, Ayr\, South Ayrshire\, KA7
  2UT\, Scotland
X-APPLE-STRUCTURED-LOCATION;VALUE=URI;X-ADDRESS=16 Racecourse Road\, Ayr\, 
 South Ayrshire\, KA7 2UT\, Scotland;X-APPLE-RADIUS=100;X-TITLE=Savoy Park 
 Hotel:geo:0,0
END:VEVENT
END:VCALENDAR