BEGIN:VCALENDAR
VERSION:2.0
PRODID:-//wp-events-plugin.com//7.2.3.1//EN
BEGIN:VEVENT
UID:44@rotaryclubofayr.org
DTSTART:20241217T180000Z
DTEND:20241217T193000Z
DTSTAMP:20241201T175554Z
URL:https://rotaryclubofayr.org/events/17th-dec-willie-stewarts-christmas-
 quiz/
SUMMARY:17th Dec. - Willie Stewart's Christmas Quiz
DESCRIPTION:
LOCATION:Savoy Park Hotel\, 16 Racecourse Road\, Ayr\, South Ayrshire\, KA7
  2UT\, Scotland
X-APPLE-STRUCTURED-LOCATION;VALUE=URI;X-ADDRESS=16 Racecourse Road\, Ayr\, 
 South Ayrshire\, KA7 2UT\, Scotland;X-APPLE-RADIUS=100;X-TITLE=Savoy Park 
 Hotel:geo:0,0
END:VEVENT
END:VCALENDAR