BEGIN:VCALENDAR
VERSION:2.0
PRODID:-//wp-events-plugin.com//7.2.3.1//EN
BEGIN:VEVENT
UID:78@rotaryclubofayr.org
DTSTART:20250715T180000Z
DTEND:20250715T193000Z
DTSTAMP:20250711T124020Z
URL:https://rotaryclubofayr.org/events/15-july-2025-john-walker-the-maclau
 rin-philanthropic-love-letter/
SUMMARY:15 July 2025 - John Walker - The Maclaurin - A Philanthropic love l
 etter
DESCRIPTION:
LOCATION:Fairfield House Hotel\, 12 Fairfield Road\, Ayr\, KA7 2AS\, Scotla
 nd
X-APPLE-STRUCTURED-LOCATION;VALUE=URI;X-ADDRESS=12 Fairfield Road\, Ayr\, K
 A7 2AS\, Scotland;X-APPLE-RADIUS=100;X-TITLE=Fairfield House Hotel:geo:0,0
END:VEVENT
END:VCALENDAR