BEGIN:VCALENDAR
VERSION:2.0
PRODID:-//wp-events-plugin.com//7.2.3.1//EN
BEGIN:VEVENT
UID:37@rotaryclubofayr.org
DTSTART:20241112T180000Z
DTEND:20241112T190000Z
DTSTAMP:20241105T203708Z
URL:https://rotaryclubofayr.org/events/12-nov-2024-council-meeting-with-su
 pper/
SUMMARY:12 Nov 2024 - Council Meeting with Supper
DESCRIPTION:All members may attend
LOCATION:Savoy Park Hotel\, 16 Racecourse Road\, Ayr\, South Ayrshire\, KA7
  2UT\, Scotland
X-APPLE-STRUCTURED-LOCATION;VALUE=URI;X-ADDRESS=16 Racecourse Road\, Ayr\, 
 South Ayrshire\, KA7 2UT\, Scotland;X-APPLE-RADIUS=100;X-TITLE=Savoy Park 
 Hotel:geo:0,0
END:VEVENT
END:VCALENDAR