BEGIN:VCALENDAR
VERSION:2.0
PRODID:-//wp-events-plugin.com//7.2.3.1//EN
BEGIN:VEVENT
UID:71@rotaryclubofayr.org
DTSTART:20250610T180000Z
DTEND:20250610T203000Z
DTSTAMP:20250428T194717Z
URL:https://rotaryclubofayr.org/events/10-june-club-open-evening/
SUMMARY:10 June 2025 - Club Open Evening
DESCRIPTION:Arrangements TBC
LOCATION:Savoy Park Hotel\, 16 Racecourse Road\, Ayr\, South Ayrshire\, KA7
  2UT\, Scotland
X-APPLE-STRUCTURED-LOCATION;VALUE=URI;X-ADDRESS=16 Racecourse Road\, Ayr\, 
 South Ayrshire\, KA7 2UT\, Scotland;X-APPLE-RADIUS=100;X-TITLE=Savoy Park 
 Hotel:geo:0,0
END:VEVENT
END:VCALENDAR