BEGIN:VCALENDAR
VERSION:2.0
PRODID:-//wp-events-plugin.com//7.2.3.1//EN
BEGIN:VEVENT
UID:43@rotaryclubofayr.org
DTSTART:20241210T190000Z
DTEND:20241210T220000Z
DTSTAMP:20241203T191132Z
URL:https://rotaryclubofayr.org/events/0th-dec-christmas-dinner/
SUMMARY:10th Dec. - Christmas Dinner
DESCRIPTION:Please:\n\n 	Register attendance including partners /guests\, v
 ia the new booking-in system\, by mid-day on Friday 6th December.\n\n\n 	A
 rrive from 6.30pm to ensure that all arrangements are in place for a promp
 t start at 7pm.\n\n\n 	As referred to in Alan Meikle’s email of 23rd Nov
 ember:\n\n 	 Advise Alan of your choice meal from the menu by Tuesday the
  3rd December\n 	Arrange to bank transfer Payment (£25/pp) on-line via th
 e Clubs General Account (Sort: 801239\; Acc: 00114308) with your Ref: C Di
 nner/Surname\n\n\n\n 
LOCATION:Savoy Park Hotel\, 16 Racecourse Road\, Ayr\, South Ayrshire\, KA7
  2UT\, Scotland
X-APPLE-STRUCTURED-LOCATION;VALUE=URI;X-ADDRESS=16 Racecourse Road\, Ayr\, 
 South Ayrshire\, KA7 2UT\, Scotland;X-APPLE-RADIUS=100;X-TITLE=Savoy Park 
 Hotel:geo:0,0
END:VEVENT
END:VCALENDAR