BEGIN:VCALENDAR
VERSION:2.0
PRODID:-//wp-events-plugin.com//7.2.3.1//EN
BEGIN:VEVENT
UID:90@rotaryclubofayr.org
DTSTART:20251007T180000Z
DTEND:20251007T193000Z
DTSTAMP:20250903T162930Z
URL:https://rotaryclubofayr.org/events/07-october-2025-community-housing-a
 dvocacy-project-chap/
SUMMARY:07 October - 2025 - Robin Ballantyne - Community Housing Advocacy P
 roject (Chap)
DESCRIPTION:
LOCATION:Savoy Park Hotel\, 16 Racecourse Road\, Ayr\, South Ayrshire\, KA7
  2UT\, Scotland
X-APPLE-STRUCTURED-LOCATION;VALUE=URI;X-ADDRESS=16 Racecourse Road\, Ayr\, 
 South Ayrshire\, KA7 2UT\, Scotland;X-APPLE-RADIUS=100;X-TITLE=Savoy Park 
 Hotel:geo:0,0
END:VEVENT
END:VCALENDAR