BEGIN:VCALENDAR
VERSION:2.0
PRODID:-//wp-events-plugin.com//7.2.3.1//EN
BEGIN:VEVENT
UID:66@rotaryclubofayr.org
DTSTART:20250506T180000Z
DTEND:20250506T193000Z
DTSTAMP:20250424T175505Z
URL:https://rotaryclubofayr.org/events/06-may-rotarian-debbie-carmichael-e
 nvironmental-matters/
SUMMARY:06 May 2025 - Rotarian Debbie Carmichael - Environmental Matters
DESCRIPTION:
LOCATION:Savoy Park Hotel\, 16 Racecourse Road\, Ayr\, South Ayrshire\, KA7
  2UT\, Scotland
X-APPLE-STRUCTURED-LOCATION;VALUE=URI;X-ADDRESS=16 Racecourse Road\, Ayr\, 
 South Ayrshire\, KA7 2UT\, Scotland;X-APPLE-RADIUS=100;X-TITLE=Savoy Park 
 Hotel:geo:0,0
END:VEVENT
END:VCALENDAR