BEGIN:VCALENDAR
VERSION:2.0
PRODID:-//wp-events-plugin.com//7.2.3.1//EN
BEGIN:VEVENT
UID:81@rotaryclubofayr.org
DTSTART:20250805T180000Z
DTEND:20250805T193000Z
DTSTAMP:20250709T223339Z
URL:https://rotaryclubofayr.org/events/05-august-2025-emily-russell-or-ano
 ther-tbc-alzheimer-scotlands-work-in-ayrshire/
SUMMARY:05 August 2025 - Louise Robertson - Alzheimer Scotland's work in Ay
 rshire.
DESCRIPTION:
LOCATION:Savoy Park Hotel\, 16 Racecourse Road\, Ayr\, South Ayrshire\, KA7
  2UT\, Scotland
X-APPLE-STRUCTURED-LOCATION;VALUE=URI;X-ADDRESS=16 Racecourse Road\, Ayr\, 
 South Ayrshire\, KA7 2UT\, Scotland;X-APPLE-RADIUS=100;X-TITLE=Savoy Park 
 Hotel:geo:0,0
END:VEVENT
END:VCALENDAR