BEGIN:VCALENDAR
VERSION:2.0
PRODID:-//wp-events-plugin.com//7.2.3.1//EN
BEGIN:VEVENT
UID:85@rotaryclubofayr.org
DTSTART:20250902T180000Z
DTEND:20250902T193000Z
DTSTAMP:20250709T223824Z
URL:https://rotaryclubofayr.org/events/02-september-2025-ken-irelands-job-
 talk/
SUMMARY:02 September 2025 - Rotarian Ken Ireland's Job Talk
DESCRIPTION:
LOCATION:Savoy Park Hotel\, 16 Racecourse Road\, Ayr\, South Ayrshire\, KA7
  2UT\, Scotland
X-APPLE-STRUCTURED-LOCATION;VALUE=URI;X-ADDRESS=16 Racecourse Road\, Ayr\, 
 South Ayrshire\, KA7 2UT\, Scotland;X-APPLE-RADIUS=100;X-TITLE=Savoy Park 
 Hotel:geo:0,0
END:VEVENT
END:VCALENDAR